BEGIN:VCALENDAR
VERSION:2.0
PRODID:-//SPELLING BEE - ECPv6.15.20//NONSGML v1.0//EN
CALSCALE:GREGORIAN
METHOD:PUBLISH
X-ORIGINAL-URL:https://spellingbeenyc.com
X-WR-CALDESC:Events for SPELLING BEE
REFRESH-INTERVAL;VALUE=DURATION:PT1H
X-Robots-Tag:noindex
X-PUBLISHED-TTL:PT1H
BEGIN:VTIMEZONE
TZID:UTC
BEGIN:STANDARD
TZOFFSETFROM:+0000
TZOFFSETTO:+0000
TZNAME:UTC
DTSTART:20250101T000000
END:STANDARD
END:VTIMEZONE
BEGIN:VEVENT
DTSTART;TZID=UTC:20260212T140000
DTEND;TZID=UTC:20260212T140000
DTSTAMP:20260425T161723
CREATED:20250722T180808Z
LAST-MODIFIED:20260209T183652Z
UID:10000180-1770904800-1770904800@spellingbeenyc.com
SUMMARY:2:00pm
DESCRIPTION:
URL:https://spellingbeenyc.com/event/200pm-23/
CATEGORIES:Best Availability
END:VEVENT
BEGIN:VEVENT
DTSTART;TZID=UTC:20260212T193000
DTEND;TZID=UTC:20260212T193000
DTSTAMP:20260425T161723
CREATED:20250722T180813Z
LAST-MODIFIED:20260209T183655Z
UID:10000181-1770924600-1770924600@spellingbeenyc.com
SUMMARY:7:30pm
DESCRIPTION:
URL:https://spellingbeenyc.com/event/730pm-11/
CATEGORIES:Best Availability
END:VEVENT
END:VCALENDAR