BEGIN:VCALENDAR
VERSION:2.0
PRODID:-//SPELLING BEE - ECPv6.15.20//NONSGML v1.0//EN
CALSCALE:GREGORIAN
METHOD:PUBLISH
X-ORIGINAL-URL:https://spellingbeenyc.com
X-WR-CALDESC:Events for SPELLING BEE
REFRESH-INTERVAL;VALUE=DURATION:PT1H
X-Robots-Tag:noindex
X-PUBLISHED-TTL:PT1H
BEGIN:VTIMEZONE
TZID:UTC
BEGIN:STANDARD
TZOFFSETFROM:+0000
TZOFFSETTO:+0000
TZNAME:UTC
DTSTART:20240101T000000
END:STANDARD
END:VTIMEZONE
BEGIN:VEVENT
DTSTART;TZID=UTC:20260319T193000
DTEND;TZID=UTC:20260319T193000
DTSTAMP:20260425T122753
CREATED:20251113T175515Z
LAST-MODIFIED:20260219T211350Z
UID:10000250-1773948600-1773948600@spellingbeenyc.com
SUMMARY:7:30pm
DESCRIPTION:
URL:https://spellingbeenyc.com/event/730pm-19/
CATEGORIES:Best Availability
END:VEVENT
BEGIN:VEVENT
DTSTART;TZID=UTC:20260313T190000
DTEND;TZID=UTC:20260313T190000
DTSTAMP:20260425T122753
CREATED:20251113T175312Z
LAST-MODIFIED:20260211T172714Z
UID:10000243-1773428400-1773428400@spellingbeenyc.com
SUMMARY:7:00pm
DESCRIPTION:
URL:https://spellingbeenyc.com/event/700pm-48/
CATEGORIES:Best Availability
END:VEVENT
BEGIN:VEVENT
DTSTART;TZID=UTC:20260312T193000
DTEND;TZID=UTC:20260312T193000
DTSTAMP:20260425T122753
CREATED:20251113T175312Z
LAST-MODIFIED:20260304T212030Z
UID:10000242-1773343800-1773343800@spellingbeenyc.com
SUMMARY:7:30pm
DESCRIPTION:
URL:https://spellingbeenyc.com/event/730pm-18/
CATEGORIES:Best Availability
END:VEVENT
BEGIN:VEVENT
DTSTART;TZID=UTC:20260306T190000
DTEND;TZID=UTC:20260306T190000
DTSTAMP:20260425T122753
CREATED:20251113T175113Z
LAST-MODIFIED:20260304T211903Z
UID:10000235-1772823600-1772823600@spellingbeenyc.com
SUMMARY:7:00pm
DESCRIPTION:
URL:https://spellingbeenyc.com/event/700pm-45/
CATEGORIES:Best Availability
END:VEVENT
BEGIN:VEVENT
DTSTART;TZID=UTC:20260305T193000
DTEND;TZID=UTC:20260305T193000
DTSTAMP:20260425T122753
CREATED:20251113T175113Z
LAST-MODIFIED:20260219T211235Z
UID:10000234-1772739000-1772739000@spellingbeenyc.com
SUMMARY:7:30pm
DESCRIPTION:
URL:https://spellingbeenyc.com/event/730pm-17/
CATEGORIES:Best Availability
END:VEVENT
BEGIN:VEVENT
DTSTART;TZID=UTC:20260305T140000
DTEND;TZID=UTC:20260305T140000
DTSTAMP:20260425T122753
CREATED:20251113T175113Z
LAST-MODIFIED:20260304T211851Z
UID:10000233-1772719200-1772719200@spellingbeenyc.com
SUMMARY:2:00pm
DESCRIPTION:
URL:https://spellingbeenyc.com/event/200pm-36/
CATEGORIES:Best Availability
END:VEVENT
BEGIN:VEVENT
DTSTART;TZID=UTC:20260304T190000
DTEND;TZID=UTC:20260304T190000
DTSTAMP:20260425T122753
CREATED:20251113T175112Z
LAST-MODIFIED:20260219T211231Z
UID:10000232-1772650800-1772650800@spellingbeenyc.com
SUMMARY:7:00pm
DESCRIPTION:
URL:https://spellingbeenyc.com/event/700pm-44/
CATEGORIES:Best Availability
END:VEVENT
BEGIN:VEVENT
DTSTART;TZID=UTC:20260227T190000
DTEND;TZID=UTC:20260227T190000
DTSTAMP:20260425T122753
CREATED:20251113T175012Z
LAST-MODIFIED:20260209T183758Z
UID:10000227-1772218800-1772218800@spellingbeenyc.com
SUMMARY:7:00pm
DESCRIPTION:
URL:https://spellingbeenyc.com/event/700pm-42/
CATEGORIES:Best Availability
END:VEVENT
BEGIN:VEVENT
DTSTART;TZID=UTC:20260226T140000
DTEND;TZID=UTC:20260226T140000
DTSTAMP:20260425T122753
CREATED:20251113T174912Z
LAST-MODIFIED:20260209T183751Z
UID:10000225-1772114400-1772114400@spellingbeenyc.com
SUMMARY:2:00pm
DESCRIPTION:
URL:https://spellingbeenyc.com/event/200pm-34/
CATEGORIES:Best Availability
END:VEVENT
BEGIN:VEVENT
DTSTART;TZID=UTC:20260212T193000
DTEND;TZID=UTC:20260212T193000
DTSTAMP:20260425T122753
CREATED:20250722T180813Z
LAST-MODIFIED:20260209T183655Z
UID:10000181-1770924600-1770924600@spellingbeenyc.com
SUMMARY:7:30pm
DESCRIPTION:
URL:https://spellingbeenyc.com/event/730pm-11/
CATEGORIES:Best Availability
END:VEVENT
BEGIN:VEVENT
DTSTART;TZID=UTC:20260212T140000
DTEND;TZID=UTC:20260212T140000
DTSTAMP:20260425T122753
CREATED:20250722T180808Z
LAST-MODIFIED:20260209T183652Z
UID:10000180-1770904800-1770904800@spellingbeenyc.com
SUMMARY:2:00pm
DESCRIPTION:
URL:https://spellingbeenyc.com/event/200pm-23/
CATEGORIES:Best Availability
END:VEVENT
BEGIN:VEVENT
DTSTART;TZID=UTC:20260211T190000
DTEND;TZID=UTC:20260211T190000
DTSTAMP:20260425T122753
CREATED:20250722T180808Z
LAST-MODIFIED:20260202T194703Z
UID:10000179-1770836400-1770836400@spellingbeenyc.com
SUMMARY:7:00pm
DESCRIPTION:
URL:https://spellingbeenyc.com/event/700pm-27/
CATEGORIES:Best Availability
END:VEVENT
BEGIN:VEVENT
DTSTART;TZID=UTC:20260209T190000
DTEND;TZID=UTC:20260209T190000
DTSTAMP:20260425T122753
CREATED:20250722T180807Z
LAST-MODIFIED:20260209T183635Z
UID:10000178-1770663600-1770663600@spellingbeenyc.com
SUMMARY:7:00pm
DESCRIPTION:
URL:https://spellingbeenyc.com/event/700pm-26/
CATEGORIES:Best Availability
END:VEVENT
BEGIN:VEVENT
DTSTART;TZID=UTC:20260206T190000
DTEND;TZID=UTC:20260206T190000
DTSTAMP:20260425T122753
CREATED:20250722T180802Z
LAST-MODIFIED:20251202T185626Z
UID:10000174-1770404400-1770404400@spellingbeenyc.com
SUMMARY:7:00pm
DESCRIPTION:
URL:https://spellingbeenyc.com/event/700pm-25/
CATEGORIES:Best Availability
END:VEVENT
BEGIN:VEVENT
DTSTART;TZID=UTC:20260205T193000
DTEND;TZID=UTC:20260205T193000
DTSTAMP:20260425T122753
CREATED:20250722T180802Z
LAST-MODIFIED:20250902T195106Z
UID:10000173-1770319800-1770319800@spellingbeenyc.com
SUMMARY:7:30pm
DESCRIPTION:
URL:https://spellingbeenyc.com/event/730pm-10/
CATEGORIES:Best Availability
END:VEVENT
BEGIN:VEVENT
DTSTART;TZID=UTC:20260205T140000
DTEND;TZID=UTC:20260205T140000
DTSTAMP:20260425T122753
CREATED:20250722T180802Z
LAST-MODIFIED:20251202T185623Z
UID:10000172-1770300000-1770300000@spellingbeenyc.com
SUMMARY:2:00pm
DESCRIPTION:
URL:https://spellingbeenyc.com/event/200pm-21/
CATEGORIES:Best Availability
END:VEVENT
BEGIN:VEVENT
DTSTART;TZID=UTC:20260204T190000
DTEND;TZID=UTC:20260204T190000
DTSTAMP:20260425T122753
CREATED:20250722T180801Z
LAST-MODIFIED:20260202T194639Z
UID:10000171-1770231600-1770231600@spellingbeenyc.com
SUMMARY:7:00pm
DESCRIPTION:
URL:https://spellingbeenyc.com/event/700pm-24/
CATEGORIES:Best Availability
END:VEVENT
BEGIN:VEVENT
DTSTART;TZID=UTC:20260129T193000
DTEND;TZID=UTC:20260129T193000
DTSTAMP:20260425T122753
CREATED:20250722T180746Z
LAST-MODIFIED:20250902T194925Z
UID:10000165-1769715000-1769715000@spellingbeenyc.com
SUMMARY:7:30pm
DESCRIPTION:
URL:https://spellingbeenyc.com/event/730pm-9/
CATEGORIES:Best Availability
END:VEVENT
BEGIN:VEVENT
DTSTART;TZID=UTC:20260129T140000
DTEND;TZID=UTC:20260129T140000
DTSTAMP:20260425T122753
CREATED:20250722T180746Z
LAST-MODIFIED:20250902T194920Z
UID:10000164-1769695200-1769695200@spellingbeenyc.com
SUMMARY:2:00pm
DESCRIPTION:
URL:https://spellingbeenyc.com/event/200pm-19/
CATEGORIES:Best Availability
END:VEVENT
BEGIN:VEVENT
DTSTART;TZID=UTC:20260126T190000
DTEND;TZID=UTC:20260126T190000
DTSTAMP:20260425T122753
CREATED:20250722T180745Z
LAST-MODIFIED:20260125T211235Z
UID:10000162-1769454000-1769454000@spellingbeenyc.com
SUMMARY:7:00pm
DESCRIPTION:
URL:https://spellingbeenyc.com/event/700pm-20/
CATEGORIES:Best Availability
END:VEVENT
BEGIN:VEVENT
DTSTART;TZID=UTC:20260122T193000
DTEND;TZID=UTC:20260122T193000
DTSTAMP:20260425T122753
CREATED:20250722T180740Z
LAST-MODIFIED:20251202T185829Z
UID:10000157-1769110200-1769110200@spellingbeenyc.com
SUMMARY:7:30pm
DESCRIPTION:
URL:https://spellingbeenyc.com/event/730pm-8/
CATEGORIES:Best Availability
END:VEVENT
BEGIN:VEVENT
DTSTART;TZID=UTC:20260122T140000
DTEND;TZID=UTC:20260122T140000
DTSTAMP:20260425T122753
CREATED:20250722T180739Z
LAST-MODIFIED:20251202T185833Z
UID:10000156-1769090400-1769090400@spellingbeenyc.com
SUMMARY:2:00pm
DESCRIPTION:
URL:https://spellingbeenyc.com/event/200pm-17/
CATEGORIES:Best Availability
END:VEVENT
BEGIN:VEVENT
DTSTART;TZID=UTC:20260118T180000
DTEND;TZID=UTC:20260118T180000
DTSTAMP:20260425T122753
CREATED:20250723T175339Z
LAST-MODIFIED:20250902T200219Z
UID:10000212-1768759200-1768759200@spellingbeenyc.com
SUMMARY:6:00pm
DESCRIPTION:
URL:https://spellingbeenyc.com/event/600pm-2/
CATEGORIES:Best Availability
END:VEVENT
BEGIN:VEVENT
DTSTART;TZID=UTC:20260115T193000
DTEND;TZID=UTC:20260115T193000
DTSTAMP:20260425T122753
CREATED:20250722T180725Z
LAST-MODIFIED:20251117T201233Z
UID:10000149-1768505400-1768505400@spellingbeenyc.com
SUMMARY:7:30pm
DESCRIPTION:
URL:https://spellingbeenyc.com/event/730pm-7/
CATEGORIES:Best Availability
END:VEVENT
BEGIN:VEVENT
DTSTART;TZID=UTC:20260115T140000
DTEND;TZID=UTC:20260115T140000
DTSTAMP:20260425T122753
CREATED:20250722T180725Z
LAST-MODIFIED:20251202T185410Z
UID:10000148-1768485600-1768485600@spellingbeenyc.com
SUMMARY:2:00pm
DESCRIPTION:
URL:https://spellingbeenyc.com/event/200pm-14/
CATEGORIES:Best Availability
END:VEVENT
BEGIN:VEVENT
DTSTART;TZID=UTC:20260108T193000
DTEND;TZID=UTC:20260108T193000
DTSTAMP:20260425T122753
CREATED:20250722T180654Z
LAST-MODIFIED:20250902T194649Z
UID:10000141-1767900600-1767900600@spellingbeenyc.com
SUMMARY:7:30pm
DESCRIPTION:
URL:https://spellingbeenyc.com/event/730pm-6/
CATEGORIES:Best Availability
END:VEVENT
BEGIN:VEVENT
DTSTART;TZID=UTC:20251223T140000
DTEND;TZID=UTC:20251223T140000
DTSTAMP:20260425T122753
CREATED:20250723T170559Z
LAST-MODIFIED:20250902T195643Z
UID:10000196-1766498400-1766498400@spellingbeenyc.com
SUMMARY:2:00pm
DESCRIPTION:
URL:https://spellingbeenyc.com/event/200pm-28/
CATEGORIES:Best Availability
END:VEVENT
BEGIN:VEVENT
DTSTART;TZID=UTC:20251218T193000
DTEND;TZID=UTC:20251218T193000
DTSTAMP:20260425T122753
CREATED:20250723T170447Z
LAST-MODIFIED:20251117T201055Z
UID:10000190-1766086200-1766086200@spellingbeenyc.com
SUMMARY:7:30pm
DESCRIPTION:
URL:https://spellingbeenyc.com/event/730pm-12/
CATEGORIES:Best Availability
END:VEVENT
BEGIN:VEVENT
DTSTART;TZID=UTC:20251218T140000
DTEND;TZID=UTC:20251218T140000
DTSTAMP:20260425T122753
CREATED:20250723T170246Z
LAST-MODIFIED:20251117T201052Z
UID:10000189-1766066400-1766066400@spellingbeenyc.com
SUMMARY:2:00pm
DESCRIPTION:
URL:https://spellingbeenyc.com/event/200pm-26/
CATEGORIES:Best Availability
END:VEVENT
BEGIN:VEVENT
DTSTART;TZID=UTC:20251211T193000
DTEND;TZID=UTC:20251211T193000
DTSTAMP:20260425T122753
CREATED:20250722T180651Z
LAST-MODIFIED:20250902T193027Z
UID:10000133-1765481400-1765481400@spellingbeenyc.com
SUMMARY:7:30pm
DESCRIPTION:
URL:https://spellingbeenyc.com/event/730pm-5/
CATEGORIES:Best Availability
END:VEVENT
END:VCALENDAR