BEGIN:VCALENDAR
VERSION:2.0
PRODID:-//SPELLING BEE - ECPv6.15.20//NONSGML v1.0//EN
CALSCALE:GREGORIAN
METHOD:PUBLISH
X-ORIGINAL-URL:https://spellingbeenyc.com
X-WR-CALDESC:Events for SPELLING BEE
REFRESH-INTERVAL;VALUE=DURATION:PT1H
X-Robots-Tag:noindex
X-PUBLISHED-TTL:PT1H
BEGIN:VTIMEZONE
TZID:UTC
BEGIN:STANDARD
TZOFFSETFROM:+0000
TZOFFSETTO:+0000
TZNAME:UTC
DTSTART:20250101T000000
END:STANDARD
END:VTIMEZONE
BEGIN:VEVENT
DTSTART;TZID=UTC:20260429T190000
DTEND;TZID=UTC:20260429T190000
DTSTAMP:20260422T094428
CREATED:20260203T150130Z
LAST-MODIFIED:20260219T211911Z
UID:10000296-1777489200-1777489200@spellingbeenyc.com
SUMMARY:7:00pm
DESCRIPTION:
URL:https://spellingbeenyc.com/event/700pm-68/
CATEGORIES:Best Availability
END:VEVENT
BEGIN:VEVENT
DTSTART;TZID=UTC:20260501T190000
DTEND;TZID=UTC:20260501T190000
DTSTAMP:20260422T094428
CREATED:20260203T150230Z
LAST-MODIFIED:20260421T203720Z
UID:10000299-1777662000-1777662000@spellingbeenyc.com
SUMMARY:7:00pm
DESCRIPTION:
URL:https://spellingbeenyc.com/event/700pm-69/
CATEGORIES:Best Availability
END:VEVENT
BEGIN:VEVENT
DTSTART;TZID=UTC:20260502T140000
DTEND;TZID=UTC:20260502T140000
DTSTAMP:20260422T094428
CREATED:20260203T150230Z
LAST-MODIFIED:20260325T000737Z
UID:10000300-1777730400-1777730400@spellingbeenyc.com
SUMMARY:2:00pm
DESCRIPTION:
URL:https://spellingbeenyc.com/event/200pm-53/
CATEGORIES:Best Availability
END:VEVENT
BEGIN:VEVENT
DTSTART;TZID=UTC:20260503T150000
DTEND;TZID=UTC:20260503T150000
DTSTAMP:20260422T094428
CREATED:20260203T150231Z
LAST-MODIFIED:20260421T203739Z
UID:10000302-1777820400-1777820400@spellingbeenyc.com
SUMMARY:3:00pm
DESCRIPTION:
URL:https://spellingbeenyc.com/event/300pm-21/
CATEGORIES:Best Availability
END:VEVENT
BEGIN:VEVENT
DTSTART;TZID=UTC:20260506T190000
DTEND;TZID=UTC:20260506T190000
DTSTAMP:20260422T094428
CREATED:20260203T150330Z
LAST-MODIFIED:20260421T203748Z
UID:10000304-1778094000-1778094000@spellingbeenyc.com
SUMMARY:7:00pm
DESCRIPTION:
URL:https://spellingbeenyc.com/event/700pm-71/
CATEGORIES:Best Availability
END:VEVENT
BEGIN:VEVENT
DTSTART;TZID=UTC:20260509T200000
DTEND;TZID=UTC:20260509T200000
DTSTAMP:20260422T094428
CREATED:20260203T150531Z
LAST-MODIFIED:20260421T203801Z
UID:10000309-1778356800-1778356800@spellingbeenyc.com
SUMMARY:8:00pm
DESCRIPTION:
URL:https://spellingbeenyc.com/event/800pm-32/
CATEGORIES:Best Availability
END:VEVENT
BEGIN:VEVENT
DTSTART;TZID=UTC:20260513T190000
DTEND;TZID=UTC:20260513T190000
DTSTAMP:20260422T094428
CREATED:20260203T150532Z
LAST-MODIFIED:20260421T203810Z
UID:10000312-1778698800-1778698800@spellingbeenyc.com
SUMMARY:7:00pm
DESCRIPTION:
URL:https://spellingbeenyc.com/event/700pm-74/
CATEGORIES:Best Availability
END:VEVENT
BEGIN:VEVENT
DTSTART;TZID=UTC:20260514T193000
DTEND;TZID=UTC:20260514T193000
DTSTAMP:20260422T094428
CREATED:20260203T150631Z
LAST-MODIFIED:20260421T203823Z
UID:10000314-1778787000-1778787000@spellingbeenyc.com
SUMMARY:7:30pm
DESCRIPTION:
URL:https://spellingbeenyc.com/event/730pm-27/
CATEGORIES:Best Availability
END:VEVENT
BEGIN:VEVENT
DTSTART;TZID=UTC:20260516T200000
DTEND;TZID=UTC:20260516T200000
DTSTAMP:20260422T094428
CREATED:20260203T150632Z
LAST-MODIFIED:20260421T203834Z
UID:10000317-1778961600-1778961600@spellingbeenyc.com
SUMMARY:8:00pm
DESCRIPTION:
URL:https://spellingbeenyc.com/event/800pm-33/
CATEGORIES:Best Availability
END:VEVENT
BEGIN:VEVENT
DTSTART;TZID=UTC:20260517T150000
DTEND;TZID=UTC:20260517T150000
DTSTAMP:20260422T094428
CREATED:20260203T150633Z
LAST-MODIFIED:20260421T203840Z
UID:10000318-1779030000-1779030000@spellingbeenyc.com
SUMMARY:3:00pm
DESCRIPTION:
URL:https://spellingbeenyc.com/event/300pm-23/
CATEGORIES:Best Availability
END:VEVENT
BEGIN:VEVENT
DTSTART;TZID=UTC:20260521T193000
DTEND;TZID=UTC:20260521T193000
DTSTAMP:20260422T094428
CREATED:20260203T150808Z
LAST-MODIFIED:20260421T203901Z
UID:10000322-1779391800-1779391800@spellingbeenyc.com
SUMMARY:7:30pm
DESCRIPTION:
URL:https://spellingbeenyc.com/event/730pm-28/
CATEGORIES:Best Availability
END:VEVENT
BEGIN:VEVENT
DTSTART;TZID=UTC:20260522T190000
DTEND;TZID=UTC:20260522T190000
DTSTAMP:20260422T094428
CREATED:20260203T150808Z
LAST-MODIFIED:20260421T203909Z
UID:10000323-1779476400-1779476400@spellingbeenyc.com
SUMMARY:7:00pm
DESCRIPTION:
URL:https://spellingbeenyc.com/event/700pm-78/
CATEGORIES:Best Availability
END:VEVENT
BEGIN:VEVENT
DTSTART;TZID=UTC:20260527T190000
DTEND;TZID=UTC:20260527T190000
DTSTAMP:20260422T094428
CREATED:20260203T150956Z
LAST-MODIFIED:20260421T204055Z
UID:10000328-1779908400-1779908400@spellingbeenyc.com
SUMMARY:7:00pm
DESCRIPTION:
URL:https://spellingbeenyc.com/event/700pm-79/
CATEGORIES:Best Availability
END:VEVENT
BEGIN:VEVENT
DTSTART;TZID=UTC:20260530T200000
DTEND;TZID=UTC:20260530T200000
DTSTAMP:20260422T094428
CREATED:20260203T151057Z
LAST-MODIFIED:20260421T204104Z
UID:10000333-1780171200-1780171200@spellingbeenyc.com
SUMMARY:8:00pm
DESCRIPTION:
URL:https://spellingbeenyc.com/event/800pm-35/
CATEGORIES:Best Availability
END:VEVENT
BEGIN:VEVENT
DTSTART;TZID=UTC:20260605T190000
DTEND;TZID=UTC:20260605T190000
DTSTAMP:20260422T094428
CREATED:20260203T151256Z
LAST-MODIFIED:20260421T204209Z
UID:10000339-1780686000-1780686000@spellingbeenyc.com
SUMMARY:7:00pm
DESCRIPTION:
URL:https://spellingbeenyc.com/event/700pm-84/
CATEGORIES:Best Availability
END:VEVENT
BEGIN:VEVENT
DTSTART;TZID=UTC:20260610T190000
DTEND;TZID=UTC:20260610T190000
DTSTAMP:20260422T094428
CREATED:20260203T151356Z
LAST-MODIFIED:20260421T204648Z
UID:10000344-1781118000-1781118000@spellingbeenyc.com
SUMMARY:7:00pm
DESCRIPTION:
URL:https://spellingbeenyc.com/event/700pm-86/
CATEGORIES:Best Availability
END:VEVENT
BEGIN:VEVENT
DTSTART;TZID=UTC:20260613T193000
DTEND;TZID=UTC:20260613T193000
DTSTAMP:20260422T094428
CREATED:20260203T151357Z
LAST-MODIFIED:20260421T204655Z
UID:10000348-1781379000-1781379000@spellingbeenyc.com
SUMMARY:7:30pm
DESCRIPTION:
URL:https://spellingbeenyc.com/event/730pm-31/
CATEGORIES:Best Availability
END:VEVENT
BEGIN:VEVENT
DTSTART;TZID=UTC:20260618T190000
DTEND;TZID=UTC:20260618T190000
DTSTAMP:20260422T094428
CREATED:20260203T151457Z
LAST-MODIFIED:20260421T204940Z
UID:10000353-1781809200-1781809200@spellingbeenyc.com
SUMMARY:7:00pm
DESCRIPTION:
URL:https://spellingbeenyc.com/event/700pm-92/
CATEGORIES:Best Availability
END:VEVENT
BEGIN:VEVENT
DTSTART;TZID=UTC:20260621T190000
DTEND;TZID=UTC:20260621T190000
DTSTAMP:20260422T094428
CREATED:20260203T151557Z
LAST-MODIFIED:20260421T204721Z
UID:10000358-1782068400-1782068400@spellingbeenyc.com
SUMMARY:7:00pm
DESCRIPTION:
URL:https://spellingbeenyc.com/event/700pm-94/
CATEGORIES:Best Availability
END:VEVENT
BEGIN:VEVENT
DTSTART;TZID=UTC:20260628T140000
DTEND;TZID=UTC:20260628T140000
DTSTAMP:20260422T094428
CREATED:20260203T151756Z
LAST-MODIFIED:20260421T204753Z
UID:10000365-1782655200-1782655200@spellingbeenyc.com
SUMMARY:2:00pm
DESCRIPTION:
URL:https://spellingbeenyc.com/event/200pm-69/
CATEGORIES:Best Availability
END:VEVENT
BEGIN:VEVENT
DTSTART;TZID=UTC:20260628T190000
DTEND;TZID=UTC:20260628T190000
DTSTAMP:20260422T094428
CREATED:20260203T151756Z
LAST-MODIFIED:20260421T204756Z
UID:10000366-1782673200-1782673200@spellingbeenyc.com
SUMMARY:7:00pm
DESCRIPTION:
URL:https://spellingbeenyc.com/event/700pm-99/
CATEGORIES:Best Availability
END:VEVENT
BEGIN:VEVENT
DTSTART;TZID=UTC:20260630T190000
DTEND;TZID=UTC:20260630T190000
DTSTAMP:20260422T094428
CREATED:20260203T151756Z
LAST-MODIFIED:20260421T204817Z
UID:10000368-1782846000-1782846000@spellingbeenyc.com
SUMMARY:7:00pm
DESCRIPTION:
URL:https://spellingbeenyc.com/event/700pm-101/
CATEGORIES:Best Availability
END:VEVENT
BEGIN:VEVENT
DTSTART;TZID=UTC:20260701T140000
DTEND;TZID=UTC:20260701T140000
DTSTAMP:20260422T094428
CREATED:20260203T151856Z
LAST-MODIFIED:20260421T204828Z
UID:10000369-1782914400-1782914400@spellingbeenyc.com
SUMMARY:2:00pm
DESCRIPTION:
URL:https://spellingbeenyc.com/event/200pm-70/
CATEGORIES:Best Availability
END:VEVENT
BEGIN:VEVENT
DTSTART;TZID=UTC:20260701T190000
DTEND;TZID=UTC:20260701T190000
DTSTAMP:20260422T094428
CREATED:20260203T151856Z
LAST-MODIFIED:20260421T204832Z
UID:10000370-1782932400-1782932400@spellingbeenyc.com
SUMMARY:7:00pm
DESCRIPTION:
URL:https://spellingbeenyc.com/event/700pm-102/
CATEGORIES:Best Availability
END:VEVENT
END:VCALENDAR